BEGIN:VCALENDAR
VERSION:2.0
PRODID:-// Nardella Real Estate iCal
METHOD:PUBLISH
BEGIN:VEVENT
DTSTART:20260423T113000

DTEND:20260423T114000
DTSTAMP:20260421T12130400

DESCRIPTION:Ofi for 3/7 Grantham Street, Brunswick West
LOCATION:3/7 Grantham Street, Brunswick West, VIC, 3055
SUMMARY:Ofi for 3/7 Grantham Street, Brunswick West hosted by Nardella Real Estate
CATEGORIES:APPOINTMENT
CLASS:PUBLIC
BEGIN:VALARM
TRIGGER:-PT1H
ACTION:DISPLAY
DESCRIPTION:Reminder
END:VALARM
END:VEVENT
END:VCALENDAR